Workbook
Name numTradingDays: #REF!
Name ticker: #REF!

Sheet INFORMATION
B1: courtesy of eminiways.com
B3: INFORMATION TO BEGIN WITH…..
B5: THE PERCENTAGE PRICE OSCILLATOR (PPO) worksheets are labeled PPO(1), PPO(2), PPO(3), PPO(4).
B7: THE CONVENTIONAL PPO CALCULATION IS SHOWN IN WORKSHEET "PPO(2)" with the setting so 12 ema and 26 ema.
B8: ALL THE OTHER PPO Worksheets are calculated with different settings (for example: ("PPO(1)" is 24 bar e.m.a. and 52 bar e.m.a.) "PPO(3) uses the setting of 12 bar e.m.a.. And 17 bar e.m.a.). Etc etc.
B9: "PPO(4)" uses the settings of 5 bar e.m.a. and 32 bar e.m.a..
B11: YOU CAN CHANGE THE PPO Exponential Moving Average SETTINGS IN EACH WORKSHEET (USE THE YELLOW HIGHLIGHTED CELLS).
B13: MANY OTHER SETTINGS CAN BE ADJUSTED TO YOUR OWN NEEDS (SUCH AS "price per point" and "cost per trade" depending upon the number of contracts you want to trade and your Starting Capital (which can be adjusted also).
B15: ALL CALCULATIONS ARE FOR EDUCATIONAL PURPOSES ONLY AND CARRY NO IMPLIED ASSUMPTION OF GAIN NOR LOSS, NOR RISK NOR REWARD.
B17: ALL OPEN, HIGH, LOW, and CLOSE PRICES ARE ENTERED INTO 'DRIVERS SEAT' worksheet.
B19: That is where (ON THE 'DRIVERS SEAT' WORKSHEET) that you will enter your Open, High, Low, Close values if you wish to change (or continue) with the e-mini S&P prices as you desire.
B21: THE 'DRIVERS SEAT' WORKSHEEET ALSO CONTAINS SOME MOVING AVERAGE CALCULATIONS
... B28: You may also wish to calculate Maximum Favorable Excursion Exits also, or any other EXITS based upon any conditions that you desire.

Sheet DRIVERS SEAT
B1: 1 Point= | C1: 50 | D1: =C1/B12&" contract(s)" -> 1 contract(s) | F1: Bill
B2: Cost/ trade= | C2: 150 | D2: of | F2: Williams
B3: Margin Cost/contrct: | C3: =B$13 -> 10060 | D3: =B10 -> ES M23 | F3: Alligator | G3: LIPS | I3: TEETH | K3: JAW
A4: Please Enter the | B4: Min. Tick Size: | C4: =B$14 -> 0.25 | F4: 5 | G4: smoothed | H4: 8 | I4: smoothed | J4: 13 | K4: smoothed
A5: Appropriate values | B5: Max. Loss or DD: | C5: not using | G5: by 3 | I5: by 5 | K5: by 8
A6: in the bright yellow | B6: Calculated Margin: | C6: =B$13*B$11 -> 10060 | G6: (not offset) | I6: (not offset) | K6: (not offset)
A7: boxes: | B7: Min. Required $ : | C7: not using | D7: Min. Capital
A8: Starting Equity Amount--> | B8: 25000
A9: Name of Contract:-----> | B9: emini S&P | D9: All Yellow
A10: Symbol of Contract:-----> | B10: ES M23 | D10: Fields
A11: # of Contracts Trading:---> | B11: 1 | D11: Can be
A12: $ value/per Pt/ per Cntrct: | B12: 50 | D12: Adjusted
A13: Margin Amount/ 1 contract: | B13: 10060
A14: Miminum Tick Size:-----> | B14: 0.25
A15: Percent Volatility:------> | B15: not using
A16: Name of system:-----> | B16: PPO CROSSOVER
F17: Bill
F18: Williams
F19: Alligator | G19: LIPS | I19: TEETH | K19: JAW
F20: 5 | G20: smoothed | H20: 8 | I20: smoothed | J20: 13 | K20: smoothed | M20: simple
G21: by 3 | I21: by 5 | K21: by 8 | M21: moving
M22: average
M23: below
A28: PRICES ARE ENTERED BELOW, WITH NEWEST PRICES AT THE BOTTOM OF THE SHEET
A29: ALL PRICES ARE REFERRED TO THE DIFFERENT PPO WORKSHEETS FROM THIS ONE 'DRIVERS SEAT'..
A30: SO MAKE ALL PRICE ADDITIONS OR CHANGES HERE (BELOW) AND THEY WILL SHOW UP CORRECTLY
A31: IN THE OTHER WORKSHEETS>
M35: simple
M36: moving
A37: Date | B37: Open | C37: High | D37: Low | E37: Close | F37: (THIS IS MY VERSION OF THE BILL WILLIAMS OSCILLATOR) | M37: average
A38: 20221101 | B38: 3921.75 | C38: 3924.25 | D38: 3882.25 | E38: 3883.25 | F38: (Feel free to change it if you like.) | M38: below
B39: 3883.25 | C39: 3887 | D39: 3869.75 | E39: 3874.5
B40: 3874.25 | C40: 3874.25 | D40: 3855.5 | E40: 3865
B41: 3864.75 | C41: 3868.25 | D41: 3852.5 | E41: 3860.25
B42: 3860.25 | C42: 3880.25 | D42: 3858.5 | E42: 3865.25 | F42: Bill
B43: 3865.25 | C43: 3870 | D43: 3859.5 | E43: 3867.5 | F43: Williams | M43: 29
B44: 3867.5 | C44: 3874.5 | D44: 3862.75 | E44: 3866 | F44: Alligator | G44: LIPS | I44: TEETH | K44: JAW | M44: simple
B45: 3866.25 | C45: 3872.5 | D45: 3862.5 | E45: 3871.25 | F45: 5 | G45: smoothed | H45: 8 | I45: smoothed | J45: 13 | K45: smoothed | M45: moving
B46: 3871 | C46: 3871.75 | D46: 3865 | E46: 3866.5 | G46: by 3 | I46: by 5 | K46: by 8 | M46: average
B47: 3866.25 | C47: 3875.25 | D47: 3862.5 | E47: 3872.25 | F47: =AVERAGE(E43:E47) -> 3868.7 | H47: =AVERAGE(E40:E47) -> 3866.75 | J47: =AVERAGE(E35:E47) -> 3869.175 | M47: below
...

Sheet PPO (1)
S1: Gross Profit:
P2: Average Trade: | R2: >1.20 is good. | S2: =SUMIF(S38:S15039,">0")*'DRIVERS SEAT'!$C$1 -> 60012.5
P3: =S34/S29 -> 69.772727 | R3: sunny harris per-
P4: # Trds to match Start Capital: | R4: formance ratio: | S4: Gross Loss:
P5: =$M$12/P3 -> 358.30619 | R5: =S13*S23 -> 0.9123185 | S5: =SUMIF(S38:S15039,"<0")*'DRIVERS SEAT'!$C$1 -> -47925
S6: =S2-ABS(S5) -> 12087.5
S7: Reward/Risk Ratio:
Q8: Edward Thorp & | S8: =S34/S10 -> #NUM!
Q9: Bennett A. McDowell & | S9: MAX DD:
M10: Starting | Q10: Nauzer J. Balsara and | S10: =LARGE(AB38:AB15039,1) -> #NUM!
M11: Equity | Q11: Larry Williams method | R11: my standard method: | S11: Payoff Ratio
M12: 25000 | N12: <--this is adjustable | Q12: of calculating kelly ratio: | R12: kelly ratio: | S12: times PF:
Q13: =(((S15+1)*S23)-1)/S15 -> 0.084228664 | R13: =((S23*S15)-(1-S23))/S15 -> 0.084228664 | S13: =S15*S17 -> 2.1816312
O14: Ed thorp's optimal f | Q14: Full value of Kelly %--> | R14: =$M$12*$R$13 -> 2105.7166 | S14: Payoff(W/L) Ratio:
O15: (((W/L) + 1) *Win% - 1)/(W/L) | Q15: 1/2 of Kelly %---> | R15: =R14/2 -> 1052.8583 | S15: =S21/ABS(S19) -> 1.742215
O16: =(((S15)+1)*S23-1)/(S15) -> 0.084228664 | Q16: 1/4 of Kelly %---> | R16: =R14/4 -> 526.42915 | S16: Profit Factor:
S17: =SUMIF(S38:S15039,">0")/ABS(SUMIF(S38:S15039,"<=0")) -> 1.252217
S18: Average Loss:
L19: using APPT | O19: APPT= | P19: =(S23*S21)-((1-S23)*ABS(S19)) -> 219.77273 | S19: =(SUMIF(S38:S15039,"<0")/S27)*'DRIVERS SEAT'!$C$1 -> -1497.6562
L20: Time to earn (amount) | M20: 4000 | N20: <--this is adjustable | O20: Avg Profitability Per Trade = (Win%* Avg Win) - (Loss% * ABS(Avg Loss)) | S20: Average Win:
L21: ="# trades to earn "&M20 -> # trades to earn 4000 | M21: =ROUNDUP(M20/P19,0) -> 19 | O21: Three Methods of Calculating Expectancy (in green below) | S21: =(SUMIF(S38:S15039,">0")/S25)*'DRIVERS SEAT'!$C$1 -> 2609.2391
O22: =ABS(S21/S19) -> 1.742215 | P22: Reward/risk | S22: Win Percent:
O23: =S23 -> 0.41818182 | P23: win ratio | S23: =S25/S29 -> 0.41818182
O24: =1-S23 -> 0.58181818 | P24: loss ratio | S24: #Winning Trds:
M25: EXPECTANCY----> | O25: =(O22*O23)-O24 -> 0.14674444 | P25: <--expectancy | S25: =COUNTIF(S38:S15039,">0") -> 23
M26: EXPECTANCY----> | O26: =((S21*S23)+(S19*(1-S23)))/ABS(S19) -> 0.14674444 | P26: <--expectancy | S26: # Losing Trds:
M27: EXPECTANCY-----> | O27: =(1+(S21/ABS(S19)))*S23-1 -> 0.14674444 | P27: <--another formula for expectancy | S27: =COUNTIF(S38:S15039,"<=0") -> 32
S28: Total # of Trds: | U28: RED DOTS = go short
L29: See the following web site for more information….. | S29: =COUNT(S38:S15039) -> 55 | U29: GREEN DOTS=go long
L30: What is Percentage Price Oscillator? (PPO)?
L31: https://www.investopedia.com/terms/p/ppo.asp | T31: Actual
G32: adjustable | S32: Total P/L: | T32: Consecutive
F33: adjustable | H33: PPO based | S33: =SUM(S38:S15039) -> 241.75 | T33: Losses:
H34: MACD | I34: Percentage | K34: Zero | S34: =(S$33*'DRIVERS SEAT'!$C$1)-(S$29*'DRIVERS SEAT'!$C$2) -> 3837.5 | T34: =MAX(T38:T15038,1) -> 10
F35: 24 | G35: 52 | H35: (col F-bar e.m.a. | I35: Price | J35: 9 | K35: Line
F36: Bar | G36: Bar | H36: minus col G bar | I36: Oscillator | J36: period | K36: For | T36: Consecutive
A37: Date | B37: Open | C37: High | D37: Low | E37: Close | F37: e.m.a. | G37: e.m.a. | H37: ema) | I37: PPO | J37: s.m.a. | K37: Chart | T37: Losses:
A38: ='DRIVERS SEAT'!A38 -> 20221101 | B38: ='DRIVERS SEAT'!B38 -> 3921.75 | C38: ='DRIVERS SEAT'!C38 -> 3924.25 | D38: ='DRIVERS SEAT'!D38 -> 3882.25 | E38: ='DRIVERS SEAT'!E38 -> 3883.25 | F38: =E38 -> 3883.25 | G38: =E38 -> 3883.25 | H38: =F38-G38 -> 0 | I38: =(F38-G38)/G38*100 -> 0 | K38: 0 | P38: Crossover | Q38: Crossover | R38: ENTRY | T38: 0
A39: ='DRIVERS SEAT'!A39 -> 0 | B39: ='DRIVERS SEAT'!B39 -> 3883.25 | C39: ='DRIVERS SEAT'!C39 -> 3887 | D39: ='DRIVERS SEAT'!D39 -> 3869.75 | E39: ='DRIVERS SEAT'!E39 -> 3874.5 | F39: =(2/(F$35+1))*(E39-F38)+F38 -> 3882.55 | G39: =(2/(G$35+1))*(E39-G38)+G38 -> 3882.9198 | H39: =F39-G39 -> -0.36981132 | I39: =(F39-G39)/G39*100 -> -0.0095240525 | J39: s.m.a. | K39: 0 | P39: Short | Q39: Long | R39: SIGNAL | T39: =IF(AND(ISNUMBER(S39),S39>0),0,IF(S39<0,1+T38,T38)) -> 0
A40: ='DRIVERS SEAT'!A40 -> 0 | B40: ='DRIVERS SEAT'!B40 -> 3874.25 | C40: ='DRIVERS SEAT'!C40 -> 3874.25 | D40: ='DRIVERS SEAT'!D40 -> 3855.5 | E40: ='DRIVERS SEAT'!E40 -> 3865 | F40: =(2/(F$35+1))*(E40-F39)+F39 -> 3881.146 | G40: =(2/(G$35+1))*(E40-G39)+G39 -> 3882.2436 | H40: =F40-G40 -> -1.097592 | I40: =(F40-G40)/G40*100 -> -0.028272106 | J40: for | K40: 0 | R40: long and | T40: =IF(AND(ISNUMBER(S40),S40>0),0,IF(S40<0,1+T39,T39)) -> 0
...

Sheet PPO (2)
S1: Gross Profit:
P2: Average Trade: | R2: >1.20 is good. | S2: =SUMIF(S38:S15039,">0")*'DRIVERS SEAT'!$C$1 -> 86712.5
P3: =S34/S29 -> 497.30769 | R3: sunny harris per-
P4: # Trds to match Start Capital: | R4: formance ratio: | S4: Gross Loss:
P5: =$M$12/P3 -> 50.270688 | R5: =S13*S23 -> 1.7416929 | S5: =SUMIF(S38:S15039,"<0")*'DRIVERS SEAT'!$C$1 -> -44637.5
S6: =S2-ABS(S5) -> 42075
S7: Reward/Risk Ratio:
Q8: Edward Thorp & | S8: =S34/S10 -> #NUM!
Q9: Bennett A. McDowell & | S9: MAX DD:
M10: Starting | Q10: Nauzer J. Balsara and | S10: =LARGE(AB38:AB15039,1) -> #NUM!
M11: Equity | Q11: Larry Williams method | R11: my standard method: | S11: Payoff Ratio
M12: 25000 | N12: <--this is adjustable | Q12: of calculating kelly ratio: | R12: kelly ratio: | S12: times PF:
Q13: =(((S15+1)*S23)-1)/S15 -> 0.26127455 | R13: =((S23*S15)-(1-S23))/S15 -> 0.26127455 | S13: =S15*S17 -> 3.2345726
O14: Ed thorp's optimal f | Q14: Full value of Kelly %--> | R14: =$M$12*$R$13 -> 6531.8637 | S14: Payoff(W/L) Ratio:
O15: (((W/L) + 1) *Win% - 1)/(W/L) | Q15: 1/2 of Kelly %---> | R15: =R14/2 -> 3265.9318 | S15: =S21/ABS(S19) -> 1.6650798
O16: =(((S15)+1)*S23-1)/(S15) -> 0.26127455 | Q16: 1/4 of Kelly %---> | R16: =R14/4 -> 1632.9659 | S16: Profit Factor:
S17: =SUMIF(S38:S15039,">0")/ABS(SUMIF(S38:S15039,"<=0")) -> 1.9425931
S18: Average Loss:
L19: using APPT | O19: APPT= | P19: =(S23*S21)-((1-S23)*ABS(S19)) -> 647.30769 | S19: =(SUMIF(S38:S15039,"<0")/S27)*'DRIVERS SEAT'!$C$1 -> -1487.9167
L20: Time to earn (amount) | M20: 4000 | N20: <--this is adjustable | O20: Avg Profitability Per Trade = (Win%* Avg Win) - (Loss% * ABS(Avg Loss)) | S20: Average Win:
L21: ="# trades to earn "&M20 -> # trades to earn 4000 | M21: =ROUNDUP(M20/P19,0) -> 7 | O21: Three Methods of Calculating Expectancy (in green below) | S21: =(SUMIF(S38:S15039,">0")/S25)*'DRIVERS SEAT'!$C$1 -> 2477.5
O22: =ABS(S21/S19) -> 1.6650798 | P22: Reward/risk | S22: Win Percent:
O23: =S23 -> 0.53846154 | P23: win ratio | S23: =S25/S29 -> 0.53846154
O24: =1-S23 -> 0.46153846 | P24: loss ratio | S24: #Winning Trds:
M25: EXPECTANCY----> | O25: =(O22*O23)-O24 -> 0.43504297 | P25: <--expectancy | S25: =COUNTIF(S38:S15039,">0") -> 35
M26: EXPECTANCY----> | O26: =((S21*S23)+(S19*(1-S23)))/ABS(S19) -> 0.43504297 | P26: <--expectancy | S26: # Losing Trds:
M27: EXPECTANCY-----> | O27: =(1+(S21/ABS(S19)))*S23-1 -> 0.43504297 | P27: <--another formula for expectancy | S27: =COUNTIF(S38:S15039,"<=0") -> 30
S28: Total # of Trds: | U28: RED DOTS = go short
L29: See the following web site for more information….. | S29: =COUNT(S38:S15039) -> 65 | U29: GREEN DOTS=go long
L30: What is Percentage Price Oscillator? (PPO)?
L31: https://www.investopedia.com/terms/p/ppo.asp | T31: Actual
G32: adjustable | S32: Total P/L: | T32: Consecutive
F33: adjustable | H33: PPO based | S33: =SUM(S38:S15039) -> 841.5 | T33: Losses:
H34: MACD | I34: Percentage | K34: Zero | S34: =(S$33*'DRIVERS SEAT'!$C$1)-(S$29*'DRIVERS SEAT'!$C$2) -> 32325 | T34: =MAX(T38:T15038,1) -> 6
F35: 12 | G35: 26 | H35: (col F-bar e.m.a. | I35: Price | J35: 9 | K35: Line
F36: Bar | G36: Bar | H36: minus col G bar | I36: Oscillator | J36: period | K36: For | T36: Consecutive
A37: Date | B37: Open | C37: High | D37: Low | E37: Close | F37: e.m.a. | G37: e.m.a. | H37: ema) | I37: PPO | J37: s.m.a. | K37: Chart | T37: Losses:
A38: ='DRIVERS SEAT'!A38 -> 20221101 | B38: ='DRIVERS SEAT'!B38 -> 3921.75 | C38: ='DRIVERS SEAT'!C38 -> 3924.25 | D38: ='DRIVERS SEAT'!D38 -> 3882.25 | E38: ='DRIVERS SEAT'!E38 -> 3883.25 | F38: =E38 -> 3883.25 | G38: =E38 -> 3883.25 | H38: =F38-G38 -> 0 | I38: =(F38-G38)/G38*100 -> 0 | K38: 0 | P38: Crossover | Q38: Crossover | R38: ENTRY | T38: 0
A39: ='DRIVERS SEAT'!A39 -> 0 | B39: ='DRIVERS SEAT'!B39 -> 3883.25 | C39: ='DRIVERS SEAT'!C39 -> 3887 | D39: ='DRIVERS SEAT'!D39 -> 3869.75 | E39: ='DRIVERS SEAT'!E39 -> 3874.5 | F39: =(2/(F$35+1))*(E39-F38)+F38 -> 3881.9038 | G39: =(2/(G$35+1))*(E39-G38)+G38 -> 3882.6019 | H39: =F39-G39 -> -0.6980057 | I39: =(F39-G39)/G39*100 -> -0.017977782 | J39: s.m.a. | K39: 0 | P39: Short | Q39: Long | R39: SIGNAL | T39: =IF(AND(ISNUMBER(S39),S39>0),0,IF(S39<0,1+T38,T38)) -> 0
A40: ='DRIVERS SEAT'!A40 -> 0 | B40: ='DRIVERS SEAT'!B40 -> 3874.25 | C40: ='DRIVERS SEAT'!C40 -> 3874.25 | D40: ='DRIVERS SEAT'!D40 -> 3855.5 | E40: ='DRIVERS SEAT'!E40 -> 3865 | F40: =(2/(F$35+1))*(E40-F39)+F39 -> 3879.3033 | G40: =(2/(G$35+1))*(E40-G39)+G39 -> 3881.298 | H40: =F40-G40 -> -1.9947565 | I40: =(F40-G40)/G40*100 -> -0.051394058 | J40: for | K40: 0 | R40: long and | T40: =IF(AND(ISNUMBER(S40),S40>0),0,IF(S40<0,1+T39,T39)) -> 0
...

Sheet PPO (3)
S1: Gross Profit:
P2: Average Trade: | R2: >1.20 is good. | S2: =SUMIF(S38:S15039,">0")*'DRIVERS SEAT'!$C$1 -> 89000
P3: =S34/S29 -> 304.62329 | R3: sunny harris per-
P4: # Trds to match Start Capital: | R4: formance ratio: | S4: Gross Loss:
P5: =$M$12/P3 -> 82.068578 | R5: =S13*S23 -> 1.2191643 | S5: =SUMIF(S38:S15039,"<0")*'DRIVERS SEAT'!$C$1 -> -55812.5
S6: =S2-ABS(S5) -> 33187.5
S7: Reward/Risk Ratio:
Q8: Edward Thorp & | S8: =S34/S10 -> #NUM!
Q9: Bennett A. McDowell & | S9: MAX DD:
M10: Starting | Q10: Nauzer J. Balsara and | S10: =LARGE(AB38:AB15039,1) -> #NUM!
M11: Equity | Q11: Larry Williams method | R11: my standard method: | S11: Payoff Ratio
M12: 25000 | N12: <--this is adjustable | Q12: of calculating kelly ratio: | R12: kelly ratio: | S12: times PF:
Q13: =(((S15+1)*S23)-1)/S15 -> 0.19410882 | R13: =((S23*S15)-(1-S23))/S15 -> 0.19410882 | S13: =S15*S17 -> 2.3420788
O14: Ed thorp's optimal f | Q14: Full value of Kelly %--> | R14: =$M$12*$R$13 -> 4852.7205 | S14: Payoff(W/L) Ratio:
O15: (((W/L) + 1) *Win% - 1)/(W/L) | Q15: 1/2 of Kelly %---> | R15: =R14/2 -> 2426.3602 | S15: =S21/ABS(S19) -> 1.4687334
O16: =(((S15)+1)*S23-1)/(S15) -> 0.19410882 | Q16: 1/4 of Kelly %---> | R16: =R14/4 -> 1213.1801 | S16: Profit Factor:
S17: =SUMIF(S38:S15039,">0")/ABS(SUMIF(S38:S15039,"<=0")) -> 1.5946249
S18: Average Loss:
L19: using APPT | O19: APPT= | P19: =(S23*S21)-((1-S23)*ABS(S19)) -> 454.62329 | S19: =(SUMIF(S38:S15039,"<0")/S27)*'DRIVERS SEAT'!$C$1 -> -1594.6429
L20: Time to earn (amount) | M20: 4000 | N20: <--this is adjustable | O20: Avg Profitability Per Trade = (Win%* Avg Win) - (Loss% * ABS(Avg Loss)) | S20: Average Win:
L21: ="# trades to earn "&M20 -> # trades to earn 4000 | M21: =ROUNDUP(M20/P19,0) -> 9 | O21: Three Methods of Calculating Expectancy (in green below) | S21: =(SUMIF(S38:S15039,">0")/S25)*'DRIVERS SEAT'!$C$1 -> 2342.1053
O22: =ABS(S21/S19) -> 1.4687334 | P22: Reward/risk | S22: Win Percent:
O23: =S23 -> 0.52054795 | P23: win ratio | S23: =S25/S29 -> 0.52054795
O24: =1-S23 -> 0.47945205 | P24: loss ratio | S24: #Winning Trds:
M25: EXPECTANCY----> | O25: =(O22*O23)-O24 -> 0.28509411 | P25: <--expectancy | S25: =COUNTIF(S38:S15039,">0") -> 38
M26: EXPECTANCY----> | O26: =((S21*S23)+(S19*(1-S23)))/ABS(S19) -> 0.28509411 | P26: <--expectancy | S26: # Losing Trds:
M27: EXPECTANCY-----> | O27: =(1+(S21/ABS(S19)))*S23-1 -> 0.28509411 | P27: <--another formula for expectancy | S27: =COUNTIF(S38:S15039,"<=0") -> 35
S28: Total # of Trds: | U28: RED DOTS = go short
L29: See the following web site for more information….. | S29: =COUNT(S38:S15039) -> 73 | U29: GREEN DOTS=go long
L30: What is Percentage Price Oscillator? (PPO)?
L31: https://www.investopedia.com/terms/p/ppo.asp | T31: Actual
G32: adjustable | S32: Total P/L: | T32: Consecutive
F33: adjustable | H33: PPO based | S33: =SUM(S38:S15039) -> 663.75 | T33: Losses:
H34: MACD | I34: Percentage | K34: Zero | S34: =(S$33*'DRIVERS SEAT'!$C$1)-(S$29*'DRIVERS SEAT'!$C$2) -> 22237.5 | T34: =MAX(T38:T15038,1) -> 6
F35: 12 | G35: 17 | H35: (col F-bar e.m.a. | I35: Price | J35: 9 | K35: Line
F36: Bar | G36: Bar | H36: minus col G bar | I36: Oscillator | J36: period | K36: For | T36: Consecutive
A37: Date | B37: Open | C37: High | D37: Low | E37: Close | F37: e.m.a. | G37: e.m.a. | H37: ema) | I37: PPO | J37: s.m.a. | K37: Chart | T37: Losses:
A38: ='DRIVERS SEAT'!A38 -> 20221101 | B38: ='DRIVERS SEAT'!B38 -> 3921.75 | C38: ='DRIVERS SEAT'!C38 -> 3924.25 | D38: ='DRIVERS SEAT'!D38 -> 3882.25 | E38: ='DRIVERS SEAT'!E38 -> 3883.25 | F38: =E38 -> 3883.25 | G38: =E38 -> 3883.25 | H38: =F38-G38 -> 0 | I38: =(F38-G38)/G38*100 -> 0 | K38: 0 | P38: Crossover | Q38: Crossover | R38: ENTRY | T38: 0
A39: ='DRIVERS SEAT'!A39 -> 0 | B39: ='DRIVERS SEAT'!B39 -> 3883.25 | C39: ='DRIVERS SEAT'!C39 -> 3887 | D39: ='DRIVERS SEAT'!D39 -> 3869.75 | E39: ='DRIVERS SEAT'!E39 -> 3874.5 | F39: =(2/(F$35+1))*(E39-F38)+F38 -> 3881.9038 | G39: =(2/(G$35+1))*(E39-G38)+G38 -> 3882.2778 | H39: =F39-G39 -> -0.37393162 | I39: =(F39-G39)/G39*100 -> -0.0096317586 | J39: s.m.a. | K39: 0 | P39: Short | Q39: Long | R39: SIGNAL | T39: =IF(AND(ISNUMBER(S39),S39>0),0,IF(S39<0,1+T38,T38)) -> 0
A40: ='DRIVERS SEAT'!A40 -> 0 | B40: ='DRIVERS SEAT'!B40 -> 3874.25 | C40: ='DRIVERS SEAT'!C40 -> 3874.25 | D40: ='DRIVERS SEAT'!D40 -> 3855.5 | E40: ='DRIVERS SEAT'!E40 -> 3865 | F40: =(2/(F$35+1))*(E40-F39)+F39 -> 3879.3033 | G40: =(2/(G$35+1))*(E40-G39)+G39 -> 3880.358 | H40: =F40-G40 -> -1.0547703 | I40: =(F40-G40)/G40*100 -> -0.027182292 | J40: for | K40: 0 | R40: long and | T40: =IF(AND(ISNUMBER(S40),S40>0),0,IF(S40<0,1+T39,T39)) -> 0
...

Sheet PPO (4)
S1: Gross Profit:
P2: Average Trade: | R2: >1.20 is good. | S2: =SUMIF(S38:S15039,">0")*'DRIVERS SEAT'!$C$1 -> 86412.5
P3: =S34/S29 -> 105.21978 | R3: sunny harris per-
P4: # Trds to match Start Capital: | R4: formance ratio: | S4: Gross Loss:
P5: =$M$12/P3 -> 237.59791 | R5: =S13*S23 -> 1.1714514 | S5: =SUMIF(S38:S15039,"<0")*'DRIVERS SEAT'!$C$1 -> -63187.5
S6: =S2-ABS(S5) -> 23225
S7: Reward/Risk Ratio:
Q8: Edward Thorp & | S8: =S34/S10 -> #NUM!
Q9: Bennett A. McDowell & | S9: MAX DD:
M10: Starting | Q10: Nauzer J. Balsara and | S10: =LARGE(AB38:AB15039,1) -> #NUM!
M11: Equity | Q11: Larry Williams method | R11: my standard method: | S11: Payoff Ratio
M12: 25000 | N12: <--this is adjustable | Q12: of calculating kelly ratio: | R12: kelly ratio: | S12: times PF:
Q13: =(((S15+1)*S23)-1)/S15 -> 0.10041918 | R13: =((S23*S15)-(1-S23))/S15 -> 0.10041918 | S13: =S15*S17 -> 3.1353551
O14: Ed thorp's optimal f | Q14: Full value of Kelly %--> | R14: =$M$12*$R$13 -> 2510.4795 | S14: Payoff(W/L) Ratio:
O15: (((W/L) + 1) *Win% - 1)/(W/L) | Q15: 1/2 of Kelly %---> | R15: =R14/2 -> 1255.2398 | S15: =S21/ABS(S19) -> 2.2926689
O16: =(((S15)+1)*S23-1)/(S15) -> 0.10041918 | Q16: 1/4 of Kelly %---> | R16: =R14/4 -> 627.61988 | S16: Profit Factor:
S17: =SUMIF(S38:S15039,">0")/ABS(SUMIF(S38:S15039,"<=0")) -> 1.3675569
S18: Average Loss:
L19: using APPT | O19: APPT= | P19: =(S23*S21)-((1-S23)*ABS(S19)) -> 255.21978 | S19: =(SUMIF(S38:S15039,"<0")/S27)*'DRIVERS SEAT'!$C$1 -> -1108.5526
L20: Time to earn (amount) | M20: 4000 | N20: <--this is adjustable | O20: Avg Profitability Per Trade = (Win%* Avg Win) - (Loss% * ABS(Avg Loss)) | S20: Average Win:
L21: ="# trades to earn "&M20 -> # trades to earn 4000 | M21: =ROUNDUP(M20/P19,0) -> 16 | O21: Three Methods of Calculating Expectancy (in green below) | S21: =(SUMIF(S38:S15039,">0")/S25)*'DRIVERS SEAT'!$C$1 -> 2541.5441
O22: =ABS(S21/S19) -> 2.2926689 | P22: Reward/risk | S22: Win Percent:
O23: =S23 -> 0.37362637 | P23: win ratio | S23: =S25/S29 -> 0.37362637
O24: =1-S23 -> 0.62637363 | P24: loss ratio | S24: #Winning Trds:
M25: EXPECTANCY----> | O25: =(O22*O23)-O24 -> 0.23022793 | P25: <--expectancy | S25: =COUNTIF(S38:S15039,">0") -> 34
M26: EXPECTANCY----> | O26: =((S21*S23)+(S19*(1-S23)))/ABS(S19) -> 0.23022793 | P26: <--expectancy | S26: # Losing Trds:
M27: EXPECTANCY-----> | O27: =(1+(S21/ABS(S19)))*S23-1 -> 0.23022793 | P27: <--another formula for expectancy | S27: =COUNTIF(S38:S15039,"<=0") -> 57
S28: Total # of Trds: | U28: RED DOTS = go short
L29: See the following web site for more information….. | S29: =COUNT(S38:S15039) -> 91 | U29: GREEN DOTS=go long
L30: What is Percentage Price Oscillator? (PPO)?
L31: https://www.investopedia.com/terms/p/ppo.asp | T31: Actual
G32: adjustable | S32: Total P/L: | T32: Consecutive
F33: adjustable | H33: PPO based | S33: =SUM(S38:S15039) -> 464.5 | T33: Losses:
H34: MACD | I34: Percentage | K34: Zero | S34: =(S$33*'DRIVERS SEAT'!$C$1)-(S$29*'DRIVERS SEAT'!$C$2) -> 9575 | T34: =MAX(T38:T15038,1) -> 11
F35: 5 | G35: 52 | H35: (col F-bar e.m.a. | I35: Price | J35: 9 | K35: Line
F36: Bar | G36: Bar | H36: minus col G bar | I36: Oscillator | J36: period | K36: For | T36: Consecutive
A37: Date | B37: Open | C37: High | D37: Low | E37: Close | F37: e.m.a. | G37: e.m.a. | H37: ema) | I37: PPO | J37: s.m.a. | K37: Chart | T37: Losses:
A38: ='DRIVERS SEAT'!A38 -> 20221101 | B38: ='DRIVERS SEAT'!B38 -> 3921.75 | C38: ='DRIVERS SEAT'!C38 -> 3924.25 | D38: ='DRIVERS SEAT'!D38 -> 3882.25 | E38: ='DRIVERS SEAT'!E38 -> 3883.25 | F38: =E38 -> 3883.25 | G38: =E38 -> 3883.25 | H38: =F38-G38 -> 0 | I38: =(F38-G38)/G38*100 -> 0 | K38: 0 | P38: Crossover | Q38: Crossover | R38: ENTRY | T38: 0
A39: ='DRIVERS SEAT'!A39 -> 0 | B39: ='DRIVERS SEAT'!B39 -> 3883.25 | C39: ='DRIVERS SEAT'!C39 -> 3887 | D39: ='DRIVERS SEAT'!D39 -> 3869.75 | E39: ='DRIVERS SEAT'!E39 -> 3874.5 | F39: =(2/(F$35+1))*(E39-F38)+F38 -> 3880.3333 | G39: =(2/(G$35+1))*(E39-G38)+G38 -> 3882.9198 | H39: =F39-G39 -> -2.586478 | I39: =(F39-G39)/G39*100 -> -0.066611677 | J39: s.m.a. | K39: 0 | P39: Short | Q39: Long | R39: SIGNAL | T39: =IF(AND(ISNUMBER(S39),S39>0),0,IF(S39<0,1+T38,T38)) -> 0
A40: ='DRIVERS SEAT'!A40 -> 0 | B40: ='DRIVERS SEAT'!B40 -> 3874.25 | C40: ='DRIVERS SEAT'!C40 -> 3874.25 | D40: ='DRIVERS SEAT'!D40 -> 3855.5 | E40: ='DRIVERS SEAT'!E40 -> 3865 | F40: =(2/(F$35+1))*(E40-F39)+F39 -> 3875.2222 | G40: =(2/(G$35+1))*(E40-G39)+G39 -> 3882.2436 | H40: =F40-G40 -> -7.0213698 | I40: =(F40-G40)/G40*100 -> -0.18085856 | J40: for | K40: 0 | R40: long and | T40: =IF(AND(ISNUMBER(S40),S40>0),0,IF(S40<0,1+T39,T39)) -> 0
...
